BEGIN:VCALENDAR
VERSION:2.0
PRODID:-//Kaposvári Vízilabda Klub - ECPv6.15.20//NONSGML v1.0//EN
CALSCALE:GREGORIAN
METHOD:PUBLISH
X-ORIGINAL-URL:https://kapospolo.hu
X-WR-CALDESC:Események Kaposvári Vízilabda Klub
REFRESH-INTERVAL;VALUE=DURATION:PT1H
X-Robots-Tag:noindex
X-PUBLISHED-TTL:PT1H
BEGIN:VTIMEZONE
TZID:Europe/Budapest
BEGIN:DAYLIGHT
TZOFFSETFROM:+0100
TZOFFSETTO:+0200
TZNAME:CEST
DTSTART:20190331T010000
END:DAYLIGHT
BEGIN:STANDARD
TZOFFSETFROM:+0200
TZOFFSETTO:+0100
TZNAME:CET
DTSTART:20191027T010000
END:STANDARD
BEGIN:DAYLIGHT
TZOFFSETFROM:+0100
TZOFFSETTO:+0200
TZNAME:CEST
DTSTART:20200329T010000
END:DAYLIGHT
BEGIN:STANDARD
TZOFFSETFROM:+0200
TZOFFSETTO:+0100
TZNAME:CET
DTSTART:20201025T010000
END:STANDARD
BEGIN:DAYLIGHT
TZOFFSETFROM:+0100
TZOFFSETTO:+0200
TZNAME:CEST
DTSTART:20210328T010000
END:DAYLIGHT
BEGIN:STANDARD
TZOFFSETFROM:+0200
TZOFFSETTO:+0100
TZNAME:CET
DTSTART:20211031T010000
END:STANDARD
END:VTIMEZONE
BEGIN:VEVENT
DTSTART;TZID=Europe/Budapest:20200202T110000
DTEND;TZID=Europe/Budapest:20200202T110000
DTSTAMP:20260421T212038
CREATED:20200103T095500Z
LAST-MODIFIED:20200103T095500Z
UID:9681-1580641200-1580641200@kapospolo.hu
SUMMARY:Gyermek: Miskolc - Blamax-Kaposvári VK
DESCRIPTION:
URL:https://kapospolo.hu/merkozes/gyermek-miskolc-blamax-kaposvari-vk/
LOCATION:Miskolc
END:VEVENT
BEGIN:VEVENT
DTSTART;TZID=Europe/Budapest:20200202T123000
DTEND;TZID=Europe/Budapest:20200202T123000
DTSTAMP:20260421T212038
CREATED:20200103T095429Z
LAST-MODIFIED:20200103T095429Z
UID:9679-1580646600-1580646600@kapospolo.hu
SUMMARY:Serdülő: Miskolc - Blamax-Kaposvári VK
DESCRIPTION:
URL:https://kapospolo.hu/merkozes/serdulo-miskolc-blamax-kaposvari-vk/
LOCATION:Miskolc
END:VEVENT
BEGIN:VEVENT
DTSTART;TZID=Europe/Budapest:20200202T134500
DTEND;TZID=Europe/Budapest:20200202T134500
DTSTAMP:20260421T212038
CREATED:20200103T095357Z
LAST-MODIFIED:20200103T095357Z
UID:9676-1580651100-1580651100@kapospolo.hu
SUMMARY:Ifjúsági: Miskolc - Blamax-Kaposvári VK
DESCRIPTION:
URL:https://kapospolo.hu/merkozes/ifjusagi-miskolc-blamax-kaposvari-vk/
LOCATION:Miskolc
END:VEVENT
END:VCALENDAR